BEGIN:VCALENDAR
VERSION:2.0
PRODID:-//Tukios.com/
BEGIN:VEVENT
UID:6c49e1e9-5f99-458c-adc9-105d0487f802@www.mcraefuneralhomellc.com
DTSTAMP:20260424T203529Z
DTSTART:20260426T190000Z
DTEND:20260426T200000Z
SUMMARY:Funeral Service
DESCRIPTION:
URL:https://www.mcraefuneralhomellc.com/obituaries/ronald-lee
LOCATION:McRae Chapel 99 Glenda Drive  Boaz AL 35957
GEO:34.2141515;-86.1589095
END:VEVENT
END:VCALENDAR