BEGIN:VCALENDAR
VERSION:2.0
PRODID:-//Tukios.com/
BEGIN:VEVENT
UID:0ae09344-4998-48df-89cb-01a7f1aaed81@www.mcraefuneralhomellc.com
DTSTAMP:20260424T203507Z
DTSTART:20260426T170000Z
DTEND:20260426T190000Z
SUMMARY:Visitation
DESCRIPTION:
URL:https://www.mcraefuneralhomellc.com/obituaries/ronald-lee
LOCATION:Mcrae Funeral Home 99 Glenda Drive  Boaz AL 35957
GEO:34.2140853;-86.1588814
END:VEVENT
END:VCALENDAR